BEGIN:VCALENDAR
VERSION:2.0
PRODID:-//Yaspi Cantayan - ECPv6.15.13.1//NONSGML v1.0//EN
CALSCALE:GREGORIAN
METHOD:PUBLISH
X-WR-CALNAME:Yaspi Cantayan
X-ORIGINAL-URL:https://yaspi.or.id
X-WR-CALDESC:Events for Yaspi Cantayan
REFRESH-INTERVAL;VALUE=DURATION:PT1H
X-Robots-Tag:noindex
X-PUBLISHED-TTL:PT1H
BEGIN:VTIMEZONE
TZID:Asia/Krasnoyarsk
BEGIN:STANDARD
TZOFFSETFROM:+0700
TZOFFSETTO:+0700
TZNAME:+07
DTSTART:20250101T000000
END:STANDARD
END:VTIMEZONE
BEGIN:VEVENT
DTSTART;VALUE=DATE:20260201
DTEND;VALUE=DATE:20260202
DTSTAMP:20260420T212753
CREATED:20260110T121836Z
LAST-MODIFIED:20260113T032508Z
UID:1347-1769904000-1769990399@yaspi.or.id
SUMMARY:Hypnoparenthing "Literasi Menyenangkan membentuk Anak Cerdas Berkarakter"
DESCRIPTION:Gratis! Terbuka untuk UMUM! 🌟 \nMembentuk anak cerdas berkarakter dimulai dari bagaimana kita memperkenalkan dunia literasi. Sekolah Karakter RA Azzahra Yaspi Cantayan menghadirkan Hypnoparenthing bertajuk “Literasi Menyenangkan Membentuk Anak Cerdas Berkarakter” bersama Konsultan Pendidikan & Terapis\, Ani Sumarni\, S.Pd.\, M.Pd.\, CH. CHt. \nMari temukan kunci rahasia membangun pondasi generasi unggul melalui metode literasi yang asyik bagi anak. Kuota terbatas hanya untuk 100 peserta\, pastikan Anda menjadi bagian dari perubahan masa depan buah hati Anda!
URL:https://yaspi.or.id/event/hypnoparenthing-literasi-menyenangkan-membentuk-anak-cerdas-berkarakter/
LOCATION:Yayasan Yaspi Cantayan\, Jl. K. Damanhuri Km. 4 Cicantayan\, Kab. Sukabumi\, Jawa Barat\, 43151\, Indonesia
CATEGORIES:Seminar
ATTACH;FMTTYPE=image/jpeg:https://yaspi.or.id/wp-content/uploads/2026/01/hypnoparenthing-yaspicantayan.jpg
END:VEVENT
BEGIN:VEVENT
DTSTART;TZID=Asia/Krasnoyarsk:20260110T080000
DTEND;TZID=Asia/Krasnoyarsk:20260110T120000
DTSTAMP:20260420T212753
CREATED:20260110T114949Z
LAST-MODIFIED:20260110T114949Z
UID:1339-1768032000-1768046400@yaspi.or.id
SUMMARY:Pembekalan Ujian Akhir MA Yaspi Cantayan
DESCRIPTION:MA Yaspi Cantayan resmi memulai rangkaian ujian akhir kelas 12 pada Sabtu\, 10 Januari 2026. Acara pembukaan ini membekali siswa dengan materi Metodologi Penelitian\, Teknik Penulisan Ilmiah\, serta Pemanfaatan AI sebagai alat bantu riset. \nFokus utama kegiatan ini adalah mempersiapkan siswa menghadapi tantangan Survey Lingkungan dan Karakter dengan standar akademik yang kuat dan adaptif terhadap teknologi digital. Rangkaian ujian ini akan berlangsung secara bertahap hingga puncaknya pada Ujian Madrasah (UM) April 2026.
URL:https://yaspi.or.id/event/pembekalan-ujian-akhir-ma-yaspi-cantayan/
LOCATION:Yayasan Yaspi Cantayan\, Jl. K. Damanhuri Km. 4 Cicantayan\, Kab. Sukabumi\, Jawa Barat\, 43151\, Indonesia
CATEGORIES:Aliyah
ATTACH;FMTTYPE=image/jpeg:https://yaspi.or.id/wp-content/uploads/2026/01/pembekalan-ujian-akhir-ma-yaspi-cantayan.jpg
END:VEVENT
END:VCALENDAR